BEGIN:VCALENDAR
PRODID:-//AT Content Types//AT Event//EN
VERSION:2.0
METHOD:PUBLISH
BEGIN:VEVENT
DTSTAMP:20260421T085312Z
CREATED:20260127T131519Z
UID:ATEvent-23f4abe3353243cdab79ad0679f0198f
LAST-MODIFIED:20260421T080116Z
SUMMARY:Culte du dimanche 26 avril - Soir
DTSTART:20260426T163000Z
DTEND:20260426T173000Z
DESCRIPTION:Prédication : "Le bâton du bon berger"
LOCATION:Temple du Luxembourg - 58 rue Madame\, Paris 6
CLASS:PUBLIC
END:VEVENT
END:VCALENDAR
