BEGIN:VCALENDAR
PRODID:-//AT Content Types//AT Event//EN
VERSION:1.0
BEGIN:VEVENT
DTSTART:20260616T180000Z
DTEND:20260616T200000Z
DCREATED:20251202T075932Z
UID:ATEvent-0a9f21c4c2994663abb257a8eb4850ad
SEQUENCE:0
LAST-MODIFIED:20260311T094101Z
SUMMARY:Bible et questions de société
DESCRIPTION:Lecture partagée du livre d’Anne-Marie Pelletier « Viv
 re au risque de l’autre ».
LOCATION:Temple du Luxembourg - 58 rue Madame\, Paris 6
PRIORITY:3
TRANSP:0
END:VEVENT
END:VCALENDAR
