BEGIN:VCALENDAR
PRODID:-//AT Content Types//AT Event//EN
VERSION:2.0
METHOD:PUBLISH
BEGIN:VEVENT
DTSTAMP:20260419T164338Z
CREATED:20251202T080849Z
UID:ATEvent-b42ca9d1df874bfab664d5be5df973fa
LAST-MODIFIED:20260311T093440Z
SUMMARY:Groupe biblique œcuménique
DTSTART:20260615T083000Z
DTEND:20260615T083000Z
DESCRIPTION:Lecture partagée du livre d’Anne-Marie Pelletier « Viv
 re au risque de l’autre ». Un lundi par mois\, à 10h30\, au temple
  du Luxembourg
LOCATION:Temple du Luxembourg - 58 rue Madame\, Paris 6
CLASS:PUBLIC
END:VEVENT
END:VCALENDAR
