BEGIN:VCALENDAR
PRODID:-//AT Content Types//AT Event//EN
VERSION:2.0
METHOD:PUBLISH
BEGIN:VEVENT
DTSTAMP:20260419T181622Z
CREATED:20251202T075835Z
UID:ATEvent-6ab90ce69d3c45238eb946d180647ca0
LAST-MODIFIED:20260311T094012Z
SUMMARY:Bible et questions de société
DTSTART:20260512T180000Z
DTEND:20260512T200000Z
DESCRIPTION:Lecture partagée du livre d’Anne-Marie Pelletier « Viv
 re au risque de l’autre ».
LOCATION:Temple du Luxembourg - 58 rue Madame\, Paris 6
CLASS:PUBLIC
END:VEVENT
END:VCALENDAR
