BEGIN:VCALENDAR
PRODID:-//AT Content Types//AT Event//EN
VERSION:2.0
METHOD:PUBLISH
BEGIN:VEVENT
DTSTAMP:20260419T192704Z
CREATED:20251202T080801Z
UID:ATEvent-2c34f5396b024a9ba0b4bc2ce4090db0
LAST-MODIFIED:20260311T093341Z
SUMMARY:Groupe biblique œcuménique
DTSTART:20260511T083000Z
DTEND:20260511T103000Z
DESCRIPTION:Lecture partagée du livre d’Anne-Marie Pelletier « Viv
 re au risque de l’autre ».  Un lundi par mois\, à 10h30\, au templ
 e du Luxembourg
LOCATION:Temple du Luxembourg - 58 rue Madame\, Paris 6
CLASS:PUBLIC
END:VEVENT
END:VCALENDAR
