BEGIN:VCALENDAR
PRODID:-//AT Content Types//AT Event//EN
VERSION:2.0
METHOD:PUBLISH
BEGIN:VEVENT
DTSTAMP:20260421T084408Z
CREATED:20250725T070504Z
UID:ATEvent-6c755e11b20c406b8e5877af4b3141c0
LAST-MODIFIED:20250725T070530Z
SUMMARY:La chorale
DTSTART:20260409T170000Z
DTEND:20260409T190000Z
DESCRIPTION:DirigÃ©e par Jean Guingne\, la chorale de notre paroisse Ã
 ©volue tout en gardant son identitÃ© Å“cumÃ©nique avec ses 70 choriste
 s
LOCATION:Temple du Luxembourg - 58 rue Madame\, Paris 6
CLASS:PUBLIC
END:VEVENT
END:VCALENDAR
