BEGIN:VCALENDAR
PRODID:-//AT Content Types//AT Event//EN
VERSION:1.0
BEGIN:VEVENT
DTSTART:20260510T070000Z
DTEND:20260510T100000Z
DCREATED:20260420T082811Z
UID:ATEvent-128fb8bdcd71498e93d077b1648e9e6f
SEQUENCE:0
LAST-MODIFIED:20260420T082826Z
SUMMARY:Assemblée générale de l'EPUPL
DESCRIPTION:L'assemblée générale de l'association cultuelle de l'Eg
 lise protestante unie de Pentemont-Luxembourg se tiendra le dimanche 1
 0 mai\, à 9h\, au temple de Pentemont.
LOCATION:Temple de Pentemont - 106 rue de Grenelle\, Paris 7
PRIORITY:3
TRANSP:0
END:VEVENT
END:VCALENDAR
